Workbook

Sheet Acopio
A1: Material | B1: Unidad | C1: Cantidad acopiada | D1: Precio unitario pagado | E1: Total pagado | F1: Retirado (suma de Retiros) | G1: Queda en el corralón | H1: Valor de lo que queda
A2: Cemento portland 50 kg | B2: bolsa | C2: 200 | E2: =IF(OR(A2="",D2=""),"",C2*D2) | F2: =IF(A2="","",SUMIF(Retiros!$C$2:$C$500,A2,Retiros!$D$2:$D$500)) | G2: =IF(A2="","",C2-F2) | H2: =IF(OR(A2="",D2=""),"",G2*D2)
A3: Hierro 8 mm, barra de 12 m | B3: barra | C3: 150 | E3: =IF(OR(A3="",D3=""),"",C3*D3) | F3: =IF(A3="","",SUMIF(Retiros!$C$2:$C$500,A3,Retiros!$D$2:$D$500)) | G3: =IF(A3="","",C3-F3) | H3: =IF(OR(A3="",D3=""),"",G3*D3)
A4: Ladrillo hueco 12x18x33 | B4: unidad | C4: 3000 | E4: =IF(OR(A4="",D4=""),"",C4*D4) | F4: =IF(A4="","",SUMIF(Retiros!$C$2:$C$500,A4,Retiros!$D$2:$D$500)) | G4: =IF(A4="","",C4-F4) | H4: =IF(OR(A4="",D4=""),"",G4*D4)
E5: =IF(OR(A5="",D5=""),"",C5*D5) | F5: =IF(A5="","",SUMIF(Retiros!$C$2:$C$500,A5,Retiros!$D$2:$D$500)) | G5: =IF(A5="","",C5-F5) | H5: =IF(OR(A5="",D5=""),"",G5*D5)
E6: =IF(OR(A6="",D6=""),"",C6*D6) | F6: =IF(A6="","",SUMIF(Retiros!$C$2:$C$500,A6,Retiros!$D$2:$D$500)) | G6: =IF(A6="","",C6-F6) | H6: =IF(OR(A6="",D6=""),"",G6*D6)
E7: =IF(OR(A7="",D7=""),"",C7*D7) | F7: =IF(A7="","",SUMIF(Retiros!$C$2:$C$500,A7,Retiros!$D$2:$D$500)) | G7: =IF(A7="","",C7-F7) | H7: =IF(OR(A7="",D7=""),"",G7*D7)
E8: =IF(OR(A8="",D8=""),"",C8*D8) | F8: =IF(A8="","",SUMIF(Retiros!$C$2:$C$500,A8,Retiros!$D$2:$D$500)) | G8: =IF(A8="","",C8-F8) | H8: =IF(OR(A8="",D8=""),"",G8*D8)
E9: =IF(OR(A9="",D9=""),"",C9*D9) | F9: =IF(A9="","",SUMIF(Retiros!$C$2:$C$500,A9,Retiros!$D$2:$D$500)) | G9: =IF(A9="","",C9-F9) | H9: =IF(OR(A9="",D9=""),"",G9*D9)
E10: =IF(OR(A10="",D10=""),"",C10*D10) | F10: =IF(A10="","",SUMIF(Retiros!$C$2:$C$500,A10,Retiros!$D$2:$D$500)) | G10: =IF(A10="","",C10-F10) | H10: =IF(OR(A10="",D10=""),"",G10*D10)
E11: =IF(OR(A11="",D11=""),"",C11*D11) | F11: =IF(A11="","",SUMIF(Retiros!$C$2:$C$500,A11,Retiros!$D$2:$D$500)) | G11: =IF(A11="","",C11-F11) | H11: =IF(OR(A11="",D11=""),"",G11*D11)
E12: =IF(OR(A12="",D12=""),"",C12*D12) | F12: =IF(A12="","",SUMIF(Retiros!$C$2:$C$500,A12,Retiros!$D$2:$D$500)) | G12: =IF(A12="","",C12-F12) | H12: =IF(OR(A12="",D12=""),"",G12*D12)
E13: =IF(OR(A13="",D13=""),"",C13*D13) | F13: =IF(A13="","",SUMIF(Retiros!$C$2:$C$500,A13,Retiros!$D$2:$D$500)) | G13: =IF(A13="","",C13-F13) | H13: =IF(OR(A13="",D13=""),"",G13*D13)
E14: =IF(OR(A14="",D14=""),"",C14*D14) | F14: =IF(A14="","",SUMIF(Retiros!$C$2:$C$500,A14,Retiros!$D$2:$D$500)) | G14: =IF(A14="","",C14-F14) | H14: =IF(OR(A14="",D14=""),"",G14*D14)
E15: =IF(OR(A15="",D15=""),"",C15*D15) | F15: =IF(A15="","",SUMIF(Retiros!$C$2:$C$500,A15,Retiros!$D$2:$D$500)) | G15: =IF(A15="","",C15-F15) | H15: =IF(OR(A15="",D15=""),"",G15*D15)
E16: =IF(OR(A16="",D16=""),"",C16*D16) | F16: =IF(A16="","",SUMIF(Retiros!$C$2:$C$500,A16,Retiros!$D$2:$D$500)) | G16: =IF(A16="","",C16-F16) | H16: =IF(OR(A16="",D16=""),"",G16*D16)
... E41: =IF(OR(A41="",D41=""),"",C41*D41) | F41: =IF(A41="","",SUMIF(Retiros!$C$2:$C$500,A41,Retiros!$D$2:$D$500)) | G41: =IF(A41="","",C41-F41) | H41: =IF(OR(A41="",D41=""),"",G41*D41)

Sheet Retiros
A1: Fecha | B1: Remito N.º | C1: Material (igual que en la hoja Acopio) | D1: Cantidad retirada | E1: Quién retiró | F1: Observaciones

Sheet Cómo usarla
A1: Planilla de control de acopio de materiales (lummo.ar/acopio-de-materiales)
A2: 1. En la hoja Acopio, cargá cada material como figura en el comprobante del corralón: cantidad y precio unitario pagado.
A3: Las tres filas que vienen cargadas son un ejemplo: reemplazalas por las tuyas.
A4: 2. En la hoja Retiros, anotá cada retiro con su número de remito. El material tiene que estar escrito igual que en Acopio.
A5: 3. La hoja Acopio calcula sola cuánto retiraste, cuánto queda en el corralón y cuánto vale lo que queda.
A6: 4. Antes de cerrar el acopio, compará “Queda en el corralón” con lo que dice el corralón: cualquier diferencia se reclama con los remitos.
A7: Para la obra, el gasto es lo retirado. Lo pagado que todavía no retiraste es material guardado en el corralón, no plata a favor.
